BEGIN:VCALENDAR
VERSION:2.0
PRODID:-//wp-events-plugin.com//7.2.3.1//EN
TZID:America/Denver
X-WR-TIMEZONE:America/Denver
BEGIN:VEVENT
UID:105@ranchstewards.org
DTSTART;TZID=America/Denver:20260513T080000
DTEND;TZID=America/Denver:20260513T110000
DTSTAMP:20260401T150459Z
URL:https://ranchstewards.org/events/coffee-and-cow-collars/
SUMMARY:Coffee and Cow Collars
DESCRIPTION:Joins us for coffee and learn about Virtual Collars with Leo Ba
 rthelmess. Leo will be showing us his Vence collared cows.\n\nBring your q
 uestions and see if this is an option for your operation.\n\nPlease note t
 his will be during our Ranch Boot Camp and because of interest in virtual 
 collars we are opening this section to the public.\n\nMeet us at the Old A
 rmory- 1008 Us Hwy 191 South\, Malta\, MT 59538 at 8:00 am and we will car
 avan together.
ATTACH;FMTTYPE=image/jpeg:https://ranchstewards.org/wp-content/uploads/202
 6/03/FINAL-2026-2026-Collars-And-Coffee-WEBSITE-EVENT-PHOTO.png
LOCATION:Malta\, Various\, Malta\, MT\, 59538\, United States
X-APPLE-STRUCTURED-LOCATION;VALUE=URI;X-ADDRESS=Various\, Malta\, MT\, 5953
 8\, United States;X-APPLE-RADIUS=100;X-TITLE=Malta:geo:0,0
END:VEVENT
BEGIN:VTIMEZONE
TZID:America/Denver
X-LIC-LOCATION:America/Denver
BEGIN:DAYLIGHT
DTSTART:20260308T030000
TZOFFSETFROM:-0700
TZOFFSETTO:-0600
TZNAME:MDT
END:DAYLIGHT
END:VTIMEZONE
END:VCALENDAR